BEGIN:VCALENDAR
VERSION:2.0
METHOD:PUBLISH
PRODID:- Tech-Nachrichten //NONSGML Events //EN
CALSCALE:GREGORIAN
X-WR-CALNAME:ICAL-BLOG
BEGIN:VEVENT
UID:1f9b64c3-6696-429f-b9a1-b365b85de6fe
DTSTAMP:20260425T124531Z
CREATED:20260425T124531Z
SUMMARY:Lenovo USB-C Travel Hub
DESCRIPTION:https://tech-nachrichten.de/lenovo-usb-c-travel-hub/ - Artikel vom: Do.\, 7. November 2019\, 13:02:10 - Preis auf Anfrage(4X90M60789)\n(Listen-ID:6\, Artikelnummer: 30239)Warengruppe: Außendienst und -Zubehör\, Notebooks
LOCATION:https://tech-nachrichten.de
CATEGORIES:Gelbe Kategorie
TRANSP:TRANSPARENT
X-MICROSOFT-CDO-BUSYSTATUS:FREE
SEQUENCE:0
CLASS:PUBLIC
PRIORITY:1
DTSTART:20260425T070000Z
DTEND:20260425T080000Z
BEGIN:VALARM
TRIGGER:-PT30M
ACTION:DISPLAY
DESCRIPTION:Reminder for Lenovo USB-C Travel Hub
END:VALARM
END:VEVENT
END:VCALENDAR
