BEGIN:VCALENDAR
VERSION:2.0
METHOD:PUBLISH
PRODID:- Tech-Nachrichten //NONSGML Events //EN
CALSCALE:GREGORIAN
X-WR-CALNAME:ICAL-BLOG
BEGIN:VEVENT
UID:962e996d-31b7-49f3-a96d-26d40d4dee3d
DTSTAMP:20260421T143527Z
CREATED:20260421T143527Z
SUMMARY:VLC Plus Player – Adware
DESCRIPTION:https://tech-nachrichten.de/vlc-plus-player-adware/ - Artikel vom: So.\, 18. September 2022\, 14:58:02 - Neulich entdeckt beim Software-Scan. Es tauchte in der Softwareliste statt des bekannten quelloffenen „VLC Media Player“ von videolan.org ein VLC Plus Player von vlc.de oder andere Varianten und Namen auf. \nLetztgenanntes Programm basiert zwar auf der aktuellen Version vom VLC Media Player\, enthält aber einen anderen Installer und anderes Logowork. Statt des „Baustellen-Pylons“ ist das Symbol ähnlich gefärbt und wie ein Vorfahrtschild gestaltet. Zusätzlich wird Adware im Setup mit ausgeliefert und die Anbieter verstoßen gegen die GPL-Lizenz\, indem sie den modifizierten Quell-Code vom Programm und Setup-Skript (.nsis) nicht veröffentlichen. Ublock Origin sperrt mittlerweile diese und andere Webseiten und damit die Downloadmöglichkeit. Als Herausgeber fungiert eine „Aller Media eK“.\nLeider bekommt man bei der Google (oder BING) Suche nach „VLC“ immer noch die Fake-Versionen als erstes angeboten. Es gilt jedoch „Finger weg davon“.\nWir warnen ausdrücklich davor\, solche Abwandlungen des Originals einzusetzen. Als Media-Player empfehlen wir weiterhin den Download des Originals. Wenn Sie Abarten des Programms in Ihrem Netzwerk finden\, deinstallieren Sie diese umgehend. Im schlimmsten Fall reicht das nicht aus\, weil der Installer Adware im System mitinstallliert hat. Hier hilft nur das Neu-Aufsetzen der betroffenen Geräte.\n\nhttps://download.videolan.org/pub/videolan/vlc/last/win64/\nDie „.exe“ oder die „.msi“ Zeile sind die möglichen Installationsprogramme. Direkter Download Link der Windows 64-Bit Version vom Original-Projekt
LOCATION:https://tech-nachrichten.de
CATEGORIES:Gelbe Kategorie
TRANSP:TRANSPARENT
X-MICROSOFT-CDO-BUSYSTATUS:FREE
SEQUENCE:0
CLASS:PUBLIC
PRIORITY:1
DTSTART:20260422T070000Z
DTEND:20260422T080000Z
BEGIN:VALARM
TRIGGER:-PT30M
ACTION:DISPLAY
DESCRIPTION:Reminder for VLC Plus Player – Adware
END:VALARM
END:VEVENT
END:VCALENDAR
