BEGIN:VCALENDAR
VERSION:2.0
METHOD:PUBLISH
PRODID:- Tech-Nachrichten //NONSGML Events //EN
CALSCALE:GREGORIAN
X-WR-CALNAME:ICAL-BLOG
BEGIN:VEVENT
UID:424f7711-8bb6-439e-bd48-6dfd9c708906
DTSTAMP:20260421T200516Z
CREATED:20260421T200516Z
SUMMARY:Libreoffice 7 Sicherheitslücke
DESCRIPTION:https://tech-nachrichten.de/libreoffice-7-sicherheitsluecke/ - Artikel vom: Fr.\, 21. Oktober 2022\, 15:29:53 - Die meisten Firmen setzen auf die Standardlösung: Microsoft 365 (oder Microsoft Office). Dabei ist man nur bei der Miet-Variante mit bester Sicherheit und schnellen Updates versorgt. Bei den Kaufvarianten (z. B. Office 2021 Home & Business) gibt es weder effizienten Makroschutz\, noch neue Funktionen und Sicherheitsupdates nur alle 4 Wochen am Patchday. Diese wiederum kann man dann auch nicht zentral verteilen.\n \nUngeachtet davon setzen einige von Ihnen Libreoffice (oder zumindest den Writer davon) ein\, um ausfüllbare PDF-Formulare zu erstellen (Meines Wissens die einzige kostenlose Software\, die das kann).\n \nWenn Sie Libreoffice in Ihrem Software-Inventar finden\, aktualisieren Sie bitte auf die Version 7.4.2.3 (bestenfalls in der x86_64 Variante). Ansonsten kann durch simplen HTML-Code\, der ein einem Dokument ist\, Schadcode auf die Zielsysteme eingeschleust werden. Libreoffice hat leider keinen automatischen Updater integriert\, daher ist die Aktualisierung von Hand vorzunehmen.\n \nMakros und Sicherheitslücken in Makros gibt es nicht nur in Microsoft Office\, sondern auch in Libreoffice!https://www.libreoffice.org/about-us/security/advisories/cve-2022-3140/
LOCATION:https://tech-nachrichten.de
CATEGORIES:Gelbe Kategorie
TRANSP:TRANSPARENT
X-MICROSOFT-CDO-BUSYSTATUS:FREE
SEQUENCE:0
CLASS:PUBLIC
PRIORITY:1
DTSTART:20260422T070000Z
DTEND:20260422T080000Z
BEGIN:VALARM
TRIGGER:-PT30M
ACTION:DISPLAY
DESCRIPTION:Reminder for Libreoffice 7 Sicherheitslücke
END:VALARM
END:VEVENT
END:VCALENDAR
