BEGIN:VCALENDAR
VERSION:2.0
METHOD:PUBLISH
PRODID:- Tech-Nachrichten //NONSGML Events //EN
CALSCALE:GREGORIAN
X-WR-CALNAME:ICAL-BLOG
BEGIN:VEVENT
UID:b934f658-a598-4c86-bec9-5a0eed532a1a
DTSTAMP:20260421T212257Z
CREATED:20260421T212257Z
SUMMARY:Erneut Sicherheitslücke in d.3 Server geschlossen
DESCRIPTION:https://tech-nachrichten.de/erneut-sicherheitsluecke-in-d-3-server-geschlossen/ - Artikel vom: Mo.\, 5. Dezember 2022\, 12:15:39 - d.velop\, der Hersteller von d.3 Produkten (unser Archivsystem s.dok basiert darauf) weist in seinem aktuellen Sicherheits-Bulletin DV-SEC-2022-09 darauf hin\, dass Sicherheitslücken in den Produkten (und Versionen):\n \nCurrent 2022.Q3 Patch 3 (beinhaltet d.3 server 8.21.4)Current 2022.Q3 Patch 4 (beinhaltet d.3 server 8.21.5)\n \ngeschlossen wurden. Betroffen sind Sie nur\, wenn Sie eine der genannten Versionen einsetzen. Die Software-Versionen sollten daher auf:\n \nCurrent 2022.Q4 (beinhaltet d.3 server 8.25.2)oder Annual 2022 (beinhaltet d.3server 8.21.6)oder Current 2022.Q3 Patch 5 (beinhaltet d.3 server 8.21.6)\n \naktualisiert werden. Bei Fragen wenden Sie sich bitte an unser DMS-Team.
LOCATION:https://tech-nachrichten.de
CATEGORIES:Gelbe Kategorie
TRANSP:TRANSPARENT
X-MICROSOFT-CDO-BUSYSTATUS:FREE
SEQUENCE:0
CLASS:PUBLIC
PRIORITY:1
DTSTART:20260422T070000Z
DTEND:20260422T080000Z
BEGIN:VALARM
TRIGGER:-PT30M
ACTION:DISPLAY
DESCRIPTION:Reminder for Erneut Sicherheitslücke in d.3 Server geschlossen
END:VALARM
END:VEVENT
END:VCALENDAR
