BEGIN:VCALENDAR
VERSION:2.0
METHOD:PUBLISH
PRODID:- Tech-Nachrichten //NONSGML Events //EN
CALSCALE:GREGORIAN
X-WR-CALNAME:ICAL-BLOG
BEGIN:VEVENT
UID:4a84d784-a63c-4d56-96a9-e16380ce873a
DTSTAMP:20260421T131245Z
CREATED:20260421T131245Z
SUMMARY:SPAM in Briefform – IT-Sicherheit
DESCRIPTION:https://tech-nachrichten.de/spam-in-briefform-it-sicherheit/ - Artikel vom: Mi.\, 12. Juli 2023\, 15:22:38 - obwohl diese Art der Werbung auch in Briefform schon länger nicht mehr zulässig ist\, versucht eine „Firma“ aus Darmstadt immer noch Kunden zu verunsichern.\n \nAn die Adresse c/o Geschäftsführung und mit der Anrede Sehr geehrte Geschäftsführung – die schon auf den ersten Eindruck auf einen SPAM-Roboter hindeutet (wer eine Geschäftsbeziehung zu einem Unternehmen unterhält\, kennt den Geschäftsführer beim Namen). In der Adresszeile wird die deutsche Flagge angedruckt\, was auch offiziellen Charakter haben soll.\n \nIn den nächsten Zeilen liest der SPAM-Roboter die DNS-Einträge des Unternehmens aus und erweckt den Eindruck\, dass beispielsweise die Internetseiten öffentlich zu präsentieren ein Risiko darstellt.\n \nDanach wird die „Geschäftsführung“ aufgefordert\, Kontakt aufzunehmen\, um das detaillierte Ergebnis anzufragen.\n \n\nDieses Roboter-Schreiben gehört sofort in die Ablage P!\n \nUngeachtet des Schreibens sollte jedes Unternehmen dennoch den BSI Grundschutz erfüllen und regelmäßig testieren lassen. Dazu gehören auch Firewalls / VPN-Endpunkte der aktuellen Generation und bei Cloud-Einsatz eine CloudGen Firewall.\n\n \n[linkbutton link="https://tech-nachrichten.de/it-sicherheits-check/" label="IT-Sicherheitscheck nach PS330 und BSI 200-1 durchführen"]\n \n[linkbutton link="https://tech-nachrichten.de/cloud-gen-firewall-sicherer/" label="Firewallkonzept mit und ohne Cloud"]
LOCATION:https://tech-nachrichten.de
CATEGORIES:Gelbe Kategorie
TRANSP:TRANSPARENT
X-MICROSOFT-CDO-BUSYSTATUS:FREE
SEQUENCE:0
CLASS:PUBLIC
PRIORITY:1
DTSTART:20260416T070000Z
DTEND:20260416T080000Z
BEGIN:VALARM
TRIGGER:-PT30M
ACTION:DISPLAY
DESCRIPTION:Reminder for SPAM in Briefform – IT-Sicherheit
END:VALARM
END:VEVENT
END:VCALENDAR
