BEGIN:VCALENDAR
VERSION:2.0
METHOD:PUBLISH
PRODID:- Tech-Nachrichten //NONSGML Events //EN
CALSCALE:GREGORIAN
X-WR-CALNAME:ICAL-BLOG
BEGIN:VEVENT
UID:e51da1ea-24e2-4502-9643-3a6e54665455
DTSTAMP:20260425T035601Z
CREATED:20260425T035601Z
SUMMARY:Welche Aufgabe geben Sie an Copilot ab?
DESCRIPTION:https://tech-nachrichten.de/dein-copilot-deine-idee/ - Artikel vom: Di.\, 17. März 2026\, 17:27:17 - 🚀 [sticky_expire date="30.07.2026"]Welche Sysko-Aufgaben kosten unnötig Aufwand?💡Zum Beispiel bei Informationssuche\, Dokumentation\, Standardkommunikation oder wiederkehrenden Routineaufgaben. ➡️ Teilen Sie Ihre Idee als Kommentar oder unterstützen Sie bestehende Vorschläge durch ein Like. Ein Stichpunkt reicht.\n \n[menti_cloud code=89a807e765]
LOCATION:https://tech-nachrichten.de
CATEGORIES:Gelbe Kategorie
TRANSP:TRANSPARENT
X-MICROSOFT-CDO-BUSYSTATUS:FREE
SEQUENCE:0
CLASS:PUBLIC
PRIORITY:1
DTSTART:20260425T070000Z
DTEND:20260425T080000Z
BEGIN:VALARM
TRIGGER:-PT30M
ACTION:DISPLAY
DESCRIPTION:Reminder for Welche Aufgabe geben Sie an Copilot ab?
END:VALARM
END:VEVENT
END:VCALENDAR
