BEGIN:VCALENDAR
VERSION:2.0
METHOD:PUBLISH
PRODID:- Tech-Nachrichten //NONSGML Events //EN
CALSCALE:GREGORIAN
X-WR-CALNAME:ICAL-BLOG
BEGIN:VEVENT
UID:1a35b515-c2c2-4ad5-9845-d75d588560ff
DTSTAMP:20260421T212242Z
CREATED:20260421T212242Z
SUMMARY:Achtung – Hardware-Bestelltermine zum Jahresende
DESCRIPTION:https://tech-nachrichten.de/achtung-hardware-bestelltermine-zum-jahresende/ - Artikel vom: Fr.\, 8. Dezember 2017\, 14:12:10 - Wenn Sie noch Bedarf an #Hardware und Peripherie haben\, bestellen Sie bitte bis spätestens 15. Dezember 2017. Ihre Ansprechpartner sind: Erhard Hautermann\, Tel (0251 / 7000 -3057) Karl Düsing\, Tel (0251 / 7000 - 3042) (Post ID:406)
LOCATION:https://tech-nachrichten.de
CATEGORIES:Gelbe Kategorie
TRANSP:TRANSPARENT
X-MICROSOFT-CDO-BUSYSTATUS:FREE
SEQUENCE:0
CLASS:PUBLIC
PRIORITY:1
DTSTART:20260422T070000Z
DTEND:20260422T080000Z
BEGIN:VALARM
TRIGGER:-PT30M
ACTION:DISPLAY
DESCRIPTION:Reminder for Achtung – Hardware-Bestelltermine zum Jahresende
END:VALARM
END:VEVENT
END:VCALENDAR
