BEGIN:VCALENDAR
VERSION:2.0
METHOD:PUBLISH
PRODID:- Tech-Nachrichten //NONSGML Events //EN
CALSCALE:GREGORIAN
X-WR-CALNAME:ICAL-BLOG
BEGIN:VEVENT
UID:c0f0f06b-865b-4fa0-8ab7-ff09cac44864
DTSTAMP:20260425T102427Z
CREATED:20260425T102427Z
SUMMARY:Batchverarbeitung
DESCRIPTION:https://tech-nachrichten.de/batchverarbeitung/ - Artikel vom: Di.\, 9. April 2019\, 23:34:01 - n rn(Alle Dateien eines Ordners automatisch als PDF erzeugen): Dazu PDFCreator starten\, dann ein Profil „PDFAutosave“ rnrnanlegen:rn[Profile]\, Druckdialog überspringen\, Autosave\, Ordner z.B. c:	emp vorgeben und Dateinamen=inputfile\, Haken PDF anzeigen rausnehmenrn[Anwendungseinstellungen]\, Drucker/Profil des Druckers auf PDF Autosave umstellenrnrnPDFCreator Befehlszeile aufrufen:rn“C:Program FilesPDFCreatorPDFCreator.exe“ rnrnOder Batchdatei starten\, die alle Dateien im Ordner nach PDF konvertiert (Inputordner ist hier c:	emppdfin):rnrn@echo offrnfor {d80be7cee5dd99f93bc57e679c380bce542b1ebefaddcfb620c735872c2479ca}{d80be7cee5dd99f93bc57e679c380bce542b1ebefaddcfb620c735872c2479ca}f in (c:	emppdfin*.*) do „C:Program FilesPDFCreatorPDFCreator.exe“ „/PrintFile={d80be7cee5dd99f93bc57e679c380bce542b1ebefaddcfb620c735872c2479ca}{d80be7cee5dd99f93bc57e679c380bce542b1ebefaddcfb620c735872c2479ca}f“rnpausern (Post ID:201)n
LOCATION:https://tech-nachrichten.de
CATEGORIES:Gelbe Kategorie
TRANSP:TRANSPARENT
X-MICROSOFT-CDO-BUSYSTATUS:FREE
SEQUENCE:0
CLASS:PUBLIC
PRIORITY:1
DTSTART:20260422T070000Z
DTEND:20260422T080000Z
BEGIN:VALARM
TRIGGER:-PT30M
ACTION:DISPLAY
DESCRIPTION:Reminder for Batchverarbeitung
END:VALARM
END:VEVENT
END:VCALENDAR
