BEGIN:VCALENDAR
VERSION:2.0
METHOD:PUBLISH
PRODID:- Tech-Nachrichten //NONSGML Events //EN
CALSCALE:GREGORIAN
X-WR-CALNAME:ICAL-BLOG
BEGIN:VEVENT
UID:26b1a443-a831-4a0d-b4c6-e567e0712e9e
DTSTAMP:20260425T124556Z
CREATED:20260425T124556Z
SUMMARY:ImageGlass 10 Beta: Rückkehr der echten Portable-Version
DESCRIPTION:https://tech-nachrichten.de/imageglass-10-beta-rueckkehr-der-echten-portable-version/ - Artikel vom: Mo.\, 16. März 2026\, 13:24:20 - Mit der Veröffentlichung der ersten Betaversion von ImageGlass 10 bekommt der beliebte Open-Source-Bildbetrachter eine neue Chance. Besonders interessant ist dabei ein Detail\, das viele Nutzer lange vermisst haben: Es scheint wieder eine echte portable Version zu geben.\n \nGerade für Nutzer ohne Administratorrechte oder für den Einsatz auf USB-Sticks ist das ein großer Vorteil. Eine portable Anwendung lässt sich einfach entpacken und starten\, ohne etwas im System zu installieren. Genau dieses Konzept hatte ImageGlass früher stark gemacht.\n \nBei ImageGlass 9 ging dieses Prinzip leider verloren. Die Version wollte beim Start zwingend die .NET Desktop Runtime installieren. Das funktioniert in vielen Umgebungen – etwa auf Firmenrechnern mit eingeschränkten Rechten – schlicht nicht. Gleichzeitig widerspricht es auch dem Gedanken einer wirklich portablen Anwendung. Für viele Nutzer war IG9 deshalb keine Option mehr.\n \nDie aktuelle Betaversion von ImageGlass 10 deutet nun an\, dass die Entwickler diesen Punkt wieder korrigieren. Wenn die portable Variante tatsächlich dauerhaft ohne zusätzliche Runtime-Installation auskommt und sauber mit normalen Benutzerrechten läuft\, könnte ImageGlass wieder deutlich interessanter werden.\n \nTrotzdem gilt im Moment noch: Wer einen stabilen\, schnellen und schlanken Bildbetrachter sucht\, fährt weiterhin gut mit einer Alternative. Von nomacs – Image Lounge gibt es inzwischen wieder eine aktuelle Release-Version und das Projekt wird aktiv weiterentwickelt.\n \nNomacs überzeugt vor allem durch seine Geschwindigkeit\, die geringe Systemlast und eine erstaunlich umfangreiche Ausstattung. Neben der reinen Bildanzeige bringt der Viewer auch zahlreiche Bildbearbeitungsfunktionen\, Plugins und Anpassungsmöglichkeiten mit.\n \nSolange sich also noch zeigen muss\, wohin sich ImageGlass 10 entwickelt\, bleibt nomacs aus meiner Sicht weiterhin die Empfehlung unter den Open-Source-Bildbetrachtern.
LOCATION:https://tech-nachrichten.de
CATEGORIES:Gelbe Kategorie
TRANSP:TRANSPARENT
X-MICROSOFT-CDO-BUSYSTATUS:FREE
SEQUENCE:0
CLASS:PUBLIC
PRIORITY:1
DTSTART:20260425T070000Z
DTEND:20260425T080000Z
BEGIN:VALARM
TRIGGER:-PT30M
ACTION:DISPLAY
DESCRIPTION:Reminder for ImageGlass 10 Beta: Rückkehr der echten Portable-Version
END:VALARM
END:VEVENT
END:VCALENDAR
