BEGIN:VCALENDAR
VERSION:2.0
METHOD:PUBLISH
PRODID:- Tech-Nachrichten //NONSGML Events //EN
CALSCALE:GREGORIAN
X-WR-CALNAME:ICAL-BLOG
BEGIN:VEVENT
UID:3142c97b-5183-440e-971f-f4f0b1cb0bab
DTSTAMP:20260425T124551Z
CREATED:20260425T124551Z
SUMMARY:Flym – kostenlose RSS-Reader App unter android
DESCRIPTION:https://tech-nachrichten.de/flym-kostenlose-rss-reader-app-unter-android/ - Artikel vom: Fr.\, 12. Januar 2018\, 14:27:38 - Von den bisher getesteten android apps ist Sparse RSS mittlerweile veraltet im Design und Funktionalität. Der ebenfalls kostenlose und werbefreie FLYM kann deutlich mehr und die Oberfläche ist fingerfreundlicher zu bedienen. Ein Widget für den Homescreen gibt es auch. Wichtig zu wissen: In den Standard-Einstellungen aktualisiert der Reader nur Feed-Inhalte\, die jünger als 2 Tage sind. Möchte man die News von einer Woche angezeigt bekommen\, muss man in den Einstellungen von Flym den Aufbewahrungs-Zeitraum erhöhen (z. B. auf eine Woche). (Post ID:413)
LOCATION:https://tech-nachrichten.de
CATEGORIES:Gelbe Kategorie
TRANSP:TRANSPARENT
X-MICROSOFT-CDO-BUSYSTATUS:FREE
SEQUENCE:0
CLASS:PUBLIC
PRIORITY:1
DTSTART:20260425T070000Z
DTEND:20260425T080000Z
BEGIN:VALARM
TRIGGER:-PT30M
ACTION:DISPLAY
DESCRIPTION:Reminder for Flym – kostenlose RSS-Reader App unter android
END:VALARM
END:VEVENT
END:VCALENDAR
