BEGIN:VCALENDAR
VERSION:2.0
METHOD:PUBLISH
PRODID:- Tech-Nachrichten //NONSGML Events //EN
CALSCALE:GREGORIAN
X-WR-CALNAME:ICAL-BLOG
BEGIN:VEVENT
UID:8e243df5-a50d-4a78-bb1a-0f48599eb98a
DTSTAMP:20260425T041524Z
CREATED:20260425T041524Z
SUMMARY:Gevis technische Administration
DESCRIPTION:https://tech-nachrichten.de/gevistadmin/ - Artikel vom: Fr.\, 23. Januar 2004\, 12:54:00 - #Schulungsarchiv: ehemalige gevis Schulung\n \nArchiviert: ehemaliges Schulungsmodul für Syskos:\n \nZielgruppe: Systemkoordinator\n \nVoraussetzungen: Teilnahme am Seminar „Ausbildung zum Systemkoordinator Teil I“ oder vergleichbare Windows-Kenntnisse\n \nHinweis: Dieses Seminar ist Technik-orientiert und erwartet von den Teilnehmern die praktische Arbeit am System.\n \nKursinhalte:• Allgemeine Grundlagen • Komponenten eines Netzwerkes• Netzwerkbetriebssysteme/-konzeption•GWS-Netzwerkkonzeption• Produktionsbetrieb eines Netzwerkes• Standard- und GWS-Konfiguration• Server- und Systemsicherheit• Software der Workstations / des Servers• Datensicherung / Administrator Tools• Aktivität des Administrators\n \nAchtung: Verkürzte Inhalte\, weniger Übungen\n \nDauer: 1 Tage\n \nArt: Präsenzseminar GWS\n \nMindestteilnehmerzahl: 8
LOCATION:https://tech-nachrichten.de
CATEGORIES:Gelbe Kategorie
TRANSP:TRANSPARENT
X-MICROSOFT-CDO-BUSYSTATUS:FREE
SEQUENCE:0
CLASS:PUBLIC
PRIORITY:1
DTSTART:20260425T070000Z
DTEND:20260425T080000Z
BEGIN:VALARM
TRIGGER:-PT30M
ACTION:DISPLAY
DESCRIPTION:Reminder for Gevis technische Administration
END:VALARM
END:VEVENT
END:VCALENDAR
