BEGIN:VCALENDAR
VERSION:2.0
METHOD:PUBLISH
PRODID:- Tech-Nachrichten //NONSGML Events //EN
CALSCALE:GREGORIAN
X-WR-CALNAME:ICAL-BLOG
BEGIN:VEVENT
UID:e2169cdb-e4b1-42cc-960b-e699d7806d55
DTSTAMP:20260425T131242Z
CREATED:20260425T131242Z
SUMMARY:Grußkarten
DESCRIPTION:https://tech-nachrichten.de/grusskarten/ - Artikel vom: Mi.\, 21. Januar 2026\, 11:56:23 - [grusskarte disablegui=1]
LOCATION:https://tech-nachrichten.de
CATEGORIES:Gelbe Kategorie
TRANSP:TRANSPARENT
X-MICROSOFT-CDO-BUSYSTATUS:FREE
SEQUENCE:0
CLASS:PUBLIC
PRIORITY:1
DTSTART:20260426T070000Z
DTEND:20260426T080000Z
BEGIN:VALARM
TRIGGER:-PT30M
ACTION:DISPLAY
DESCRIPTION:Reminder for Grußkarten
END:VALARM
END:VEVENT
END:VCALENDAR
