BEGIN:VCALENDAR
VERSION:2.0
METHOD:PUBLISH
PRODID:- Tech-Nachrichten //NONSGML Events //EN
CALSCALE:GREGORIAN
X-WR-CALNAME:ICAL-BLOG
BEGIN:VEVENT
UID:f8f4c738-54bd-4c76-8da6-f1c60331c752
DTSTAMP:20260421T150212Z
CREATED:20260421T150212Z
SUMMARY:Hinweisgeber-Portal für Unternehmen
DESCRIPTION:https://tech-nachrichten.de/hinweisgeber-portal-fuer-unternehmen/ - Artikel vom: Di.\, 13. Januar 2026\, 13:06:16 - Auch gerne als #Podcast hören.\n \nMit dem #Plugin „HinSchG-Portal“ bieten Unternehmen eine einfache und kostenfreie Lösung zur Umsetzung des Hinweisgeberschutzgesetz (HinSchG) und ermöglichen Mitarbeitenden\, Lieferanten oder externen Hinweisgebern Missstände anonym oder vertraulich zu melden.\n \nWarum dieses Plugin?\n \n\n \nSeit dem Inkrafttreten des Hinweisgeberschutzgesetzes am 2. Juli 2023 sind Unternehmen – je nach Größe und Branche – verpflichtet\, interne Meldestellen einzurichten und ein System zur Entgegennahme von Hinweisen bereitzustellen. Industrie- und Handelskammer+1Das HinSchG verfolgt das Ziel\, Hinweisgebende vor Repressalien zu schützen\, indem ein sicherer Meldeweg bereitgestellt wird. dos-online.deDieses #Werkzeug Plugin ermöglicht genau das: einfach in das WordPress-Backend integrierbar\, mandantenfähig\, mit anonymem Upload\, temporärem Downloadlink und komfortabler Mandantenverwaltung.\n \nHighlights des Plugins\n \n\nMandantenverwaltung: Mehrere Kennzahlen und Mandanten parallel möglich (z. B. verschiedene Gesellschaftseinheiten).\n \nFrontend-Hinweisformular: Nutzerfreundlich im Corporate Design\, mit Pflichtfeldern\, Upload-Funktion und Vista für Mandant:innen.\n \nSichere Verarbeitung: Hinweisgeberdaten bleiben anonymisiert\, Uploads werden temporär mit Linkfreigabe zur Verfügung gestellt.\n \nOpen Source: Das Projekt ist auf GitHub verfügbar unter:https://github.com/svenbolte/hinschg-portal/\n \nErstinstallation und Betrieb: Lizenzfrei\; Betreiber bzw. Administrator verantwortet rechtlich die Nutzung und Umsetzung.\n\n \nFür wen ist das Plugin geeignet?\n \n\nMittel- und Großunternehmen\, die eine interne Meldestelle nach HinSchG bereitstellen müssen.\n \nDienstleister bzw. Agenturen\, die Mandantenportale zur Hinweisgeberkommunikation betreiben.\n \nBehörden oder Organisationen im öffentlichen Auftrag\, die Hinweiskanäle anbieten müssen.\n\n \nHinweise zur Nutzung\n \nObwohl das Plugin viele Aufgaben erheblich erleichtert\, ersetzt es nicht die rechtliche oder datenschutzrechtliche Beratung – diese bleibt bei Ihnen. Achten Sie im Betrieb Ihrer Meldestelle auf die Dokumentation\, Schulung der Verantwortlichen\, technische und organisatorische Maßnahmen (TOMs) und die Einhaltung der Bearbeitungsfristen.Eine gute Praxis: Einleitung einer internen Betriebsvereinbarung oder Dienstleistungsvereinbarung mit der Meldestelle sowie Information der Beschäftigten.\n \nFazit\n \nMit dem HinSchG-Portal-Plugin erhalten Sie eine solide Grundlage\, um die gesetzlichen Anforderungen des Hinweisgeberschutzgesetzes effizient umzusetzen – transparent\, mandantenfähig und minimal-aufwändig. Die Open-Source-Dokumentation auf GitHub macht Anpassung und Integration einfach. Wenn Sie eine Lösung suchen\, die Sie schnell in Ihr WordPress-Umfeld einbinden können und die keine monatlichen Lizenzkosten erfordert\, ist dieses Plugin eine hervorragende Option.\n \n🛡️ Datenschutz beim Self-Hosting\n \nBeim selbstgehosteten Betrieb des Hinweisgeberschutz-Portals trägt der Betreiber die Verantwortung für die datenschutzkonforme Einrichtung und Wartung. Da Webserver-Logs unter Umständen Rückschlüsse auf Nutzer zulassen (z. B. durch IP-Adressen oder Zeitstempel)\, ist besondere Sorgfalt geboten.\n \nGrundsätze:\n \n\nKeine Zuordnung von Logs zu HinweisenAdministratoren dürfen keine Versuche unternehmen\, Hinweise anhand von Server-Logs oder IP-Daten einer Person zuzuordnen.\n \nLog-Daten minimieren oder anonymisierenWeb- und Fehlerlogs sollten so konfiguriert werden\, dass keine personenbezogenen Daten gespeichert werden.\n \nVerpflichtung der AdministratorenPersonen mit Serverzugriff sind schriftlich zu verpflichten\, keine Rückverfolgung oder Datenverknüpfung vorzunehmen.\n \nLöschfristen und ZugriffsbeschränkungLogs nur so lange aufbewahren\, wie es für den Betrieb notwendig ist – Zugriff nur für berechtigte Admins.\n\n \nBeispieltext für eine interne Richtlinie:\n \n\nVerpflichtung zur Wahrung der Anonymität von HinweisgebernAdministratoren\, die Zugriff auf Server- oder Systemlogs haben\, verpflichten sich\, keine technischen oder sonstigen Maßnahmen zu ergreifen\, um die Identität von Hinweisgebern zu ermitteln oder Hinweise einzelnen Personen zuzuordnen.Die Auswertung von Log-Daten darf ausschließlich zum Zweck der Systemsicherheit erfolgen.Eine Identifizierung von Hinweisgebern ist unzulässig. Verstöße können arbeits- oder dienstrechtliche Konsequenzen haben.
LOCATION:https://tech-nachrichten.de
CATEGORIES:Gelbe Kategorie
TRANSP:TRANSPARENT
X-MICROSOFT-CDO-BUSYSTATUS:FREE
SEQUENCE:0
CLASS:PUBLIC
PRIORITY:1
DTSTART:20260422T070000Z
DTEND:20260422T080000Z
BEGIN:VALARM
TRIGGER:-PT30M
ACTION:DISPLAY
DESCRIPTION:Reminder for Hinweisgeber-Portal für Unternehmen
END:VALARM
END:VEVENT
END:VCALENDAR
