BEGIN:VCALENDAR
VERSION:2.0
METHOD:PUBLISH
PRODID:- Tech-Nachrichten //NONSGML Events //EN
CALSCALE:GREGORIAN
X-WR-CALNAME:ICAL-BLOG
BEGIN:VEVENT
UID:0d26cc87-71f3-4a4f-9087-4df247feb1fe
DTSTAMP:20260425T101844Z
CREATED:20260425T101844Z
SUMMARY:podcast-hinweisgeberschutzgesetz
DESCRIPTION:https://tech-nachrichten.de/hinweisgeber-portal-fuer-unternehmen/podcast-hinweisgeberschutzgesetz/ - Artikel vom: Sa.\, 25. Oktober 2025\, 16:49:30 - 
LOCATION:https://tech-nachrichten.de
CATEGORIES:Gelbe Kategorie
TRANSP:TRANSPARENT
X-MICROSOFT-CDO-BUSYSTATUS:FREE
SEQUENCE:0
CLASS:PUBLIC
PRIORITY:1
DTSTART:20260426T070000Z
DTEND:20260426T080000Z
BEGIN:VALARM
TRIGGER:-PT30M
ACTION:DISPLAY
DESCRIPTION:Reminder for podcast-hinweisgeberschutzgesetz
END:VALARM
END:VEVENT
END:VCALENDAR
