BEGIN:VCALENDAR
VERSION:2.0
METHOD:PUBLISH
PRODID:- Tech-Nachrichten //NONSGML Events //EN
CALSCALE:GREGORIAN
X-WR-CALNAME:ICAL-BLOG
BEGIN:VEVENT
UID:1837cbee-827a-432a-826d-936fcf0ba9dd
DTSTAMP:20260425T110037Z
CREATED:20260425T110037Z
SUMMARY:KI – Bard – kann der was?
DESCRIPTION:https://tech-nachrichten.de/ki-bard-kann-der-was/ - Artikel vom: Mo.\, 17. Juli 2023\, 16:39:05 - Nachdem vermehrt Unternehmen auf "Künstliche Intelligenz"\, kurz #KI setzen\, startet auch #Google nach anfänglichen Herausforderungen mit der EU-DSGVO seinen Text-Bot namens "BARD" mit der Browser-App "bard.google.com". Man bezeichnet die Beta als "Experiment".\n \nDer Name erinnert an die gleichnamige Animationsfigur mit "t" am Ende (aka. Ay Caramba). In dem Fall kann der Bot dann aber nur Unsinn und Streiche im Kopf haben...\n \nMöglich ist auch die Herleitung aus Asterix Comics\, wo der Barde Troubardix aber auch nichts kann und daher immer am Ende an den Baum gefesselt wird.\n \nDann gibt es noch ein Computerspiel\, "Bard's tale"\, was auch hergenommen werden kann.\n \nErste Gehversuche\n \nBleiben wir mal bei Asterix und testen das Musikgeschick\, indem wir uns einen Werbesong für "gevis ERP" komponieren lassen:\n \n\n(Verse 1) Du suchst ein ERP-System\, Das dich bei deiner Arbeit unterstützt? Dann schau dir doch mal gevis an! Es ist das perfekte System für Unternehmen jeder Größe.\n \n(Chorus) gevis\, gevis\, Das ERP-System für alle! Es hilft dir bei der Verwaltung deiner Finanzen\, Deines Personals\, deiner Produktion und mehr.\n \n(Verse 2) Mit gevis kannst du deine Prozesse automatisieren\, Und so Zeit und Geld sparen. Du hast immer einen Überblick über deine Daten\, Und du kannst schnell und einfach Entscheidungen treffen.\n \n(Chorus) gevis\, gevis\, Das ERP-System für alle! Es hilft dir bei der Verwaltung deiner Finanzen\, Deines Personals\, deiner Produktion und mehr.\n \n(Bridge) gevis ist das perfekte System für Unternehmen\, Die ihre Prozesse optimieren und ihre Effizienz steigern wollen. Es ist einfach zu bedienen und skalierbar\, Und es bietet eine breite Palette von Funktionen.\n \n(Chorus) gevis\, gevis\, Das ERP-System für alle! Es hilft dir bei der Verwaltung deiner Finanzen\, Deines Personals\, deiner Produktion und mehr.\n \n(Outro) Probiere gevis noch heute aus! Du wirst es nicht bereuen.\nBards KI-Ausgabe auf die Frage nach einem Werbesong für gevis ERP\n \ngeht schon mal\, allerdings lassen sich die geschriebenen Zeilen nicht wirklich in Reinform für Strophe und Refrain bringen - selbst in einer RAP-Version fehlt der gewisse Flow.\n \nBewerbungen schreiben kann er nicht - es kommt immer die Antwort "kann ich nicht\, ich bin kein {Jobname}\n \nVielleicht kann der ja was mit Artikeln? - Ja! Kundenreferenzen zu einem Artikel als Werbetext funktioniert wieder ausgesprochen gut. Ich hoffe\, es wird nicht für Fake-Bewertungen missbraucht.\n \n\nKalkammonsalpeter (KAS) ist ein Stickstoffdünger\, der aus Ammoniak und Kohlendioxid hergestellt wird. Er ist ein beliebter Dünger für Landwirte\, da er leicht zu handhaben und zu verteilen ist und eine gute Stickstoffquelle für Pflanzen bietet.\n \nKAS ist ein granulierter Dünger\, der in verschiedenen Korngrößen erhältlich ist. Er kann im Frühjahr\, Sommer und Herbst ausgebracht werden. Die ideale Ausbringungszeit hängt von der Kulturpflanze und dem Boden ab.\n \nKAS enthält 27 % Stickstoff\, der in einer 1:1-Mischung aus Ammoniumnitrat und Ammoniumcarbamat vorliegt. Diese Form des Stickstoffs ist für Pflanzen leicht verfügbar und wird schnell von ihnen aufgenommen.\n \nKAS ist ein guter Dünger für eine Vielzahl von Kulturpflanzen\, darunter Getreide\, Gemüse\, Obst und Zierpflanzen. Er kann auch zur Verbesserung der Bodenqualität verwendet werden.\n \nKAS ist ein kostengünstiger Dünger\, der ein gutes Preis-Leistungs-Verhältnis bietet. Er ist eine gute Wahl für Landwirte\, die nach einem leistungsstarken und vielseitigen Dünger für ihre Pflanzen suchen.\n \nAls Landwirt habe ich seit vielen Jahren gute Erfahrungen mit KAS gemacht. Er ist ein zuverlässiger und preiswerter Dünger\, der meine Pflanzen gut versorgt. Ich würde KAS jedem Landwirt empfehlen\, der nach einem guten Dünger für seine Pflanzen sucht.\n \nHier sind einige zusätzliche Vorteile von KAS:\n \n\nEr ist einfach zu handhaben und zu verteilen.\n \nEr enthält eine gute Menge Stickstoff\, die für Pflanzen wichtig ist.\n \nEr ist preiswert.\n \nEr ist eine gute Wahl für eine Vielzahl von Kulturpflanzen.\n\n \nWenn Sie nach einem guten Dünger für Ihre Pflanzen suchen\, würde ich KAS empfehlen.\n"Schreibe eine Artikelbeschreibung zu Kalkammonsalpeter aus der Sicht eines Landwirts"\n \nFazit\n \nBilder kann Bard nicht erstellen\, es handelt sich um einen reinen Text-Bot. Bei der Verfeinerung von Texten und als Marketing-Unterstützung hat der "Säugling" unter den KIs schon auch in deutsch ausbaufähiges Wissen. Microsoft setzt mit dem KI-Kopiloten auf mindestens 10 Jahre Wissensvorsprung von OPENAI ein\, hat damit - entgegen der sonst üblichen Praxis mal die Nase weit vorn. Bleibt zu hoffen\, dass die KI auch weiterhin nicht nur in Premium-Modellen nutzbar ist\, sondern dass es wie bei Teams auch eine free und eine Standard-Version geben wird.
LOCATION:https://tech-nachrichten.de
CATEGORIES:Gelbe Kategorie
TRANSP:TRANSPARENT
X-MICROSOFT-CDO-BUSYSTATUS:FREE
SEQUENCE:0
CLASS:PUBLIC
PRIORITY:1
DTSTART:20260425T070000Z
DTEND:20260425T080000Z
BEGIN:VALARM
TRIGGER:-PT30M
ACTION:DISPLAY
DESCRIPTION:Reminder for KI – Bard – kann der was?
END:VALARM
END:VEVENT
END:VCALENDAR
