BEGIN:VCALENDAR
VERSION:2.0
METHOD:PUBLISH
PRODID:- Tech-Nachrichten //NONSGML Events //EN
CALSCALE:GREGORIAN
X-WR-CALNAME:ICAL-BLOG
BEGIN:VEVENT
UID:3355ceb8-7a05-466a-abe2-c14f2ff3ce9f
DTSTAMP:20260425T121127Z
CREATED:20260425T121127Z
SUMMARY:Notebooks ohne LTE-Modul ab 01.07.2021 ohne Funktion
DESCRIPTION:https://tech-nachrichten.de/notebooks-umts-module-ab-01-07-2021-nutzlos/ - Artikel vom: So.\, 3. Januar 2021\, 20:32:20 - Telekom Deutschland und vodafone werden bis zum 30.06.2021 die Mobilfunk-Stationen so umrüsten\, dass die 3G-Frequenzen für LTE verwendet werden. Damit die Umschaltung funktioniert\, wird zum 01.07.2021 die alte UMTS (und HSxPA) Technik abgeschaltet. Lange Zeit (bis vor etwa 3 Jahren) hatten neue Notebooks noch kein LTE-\, sondern ein UMTS-Funkmodul eingebaut. Der dritte große Anbieter (O2) Telefónica wird die Abschaltung am 31. Dezember 2021 durchführen.\n \nSagen Sie uns Ihre Meinung: LTE-Modul oder Smartphone für LTE und 5G nutzen?\n \nKonsequenz\n \nHaben Ihre Notebooks (gilt auch für ältere Smartphones) noch kein LTE-Modul\, können Sie damit nicht mehr ins Breitband-Internet. Lediglich mit dem Smartphone telefonieren funktioniert noch\, sowie Surfen via GPRS (entspricht etwa 1.000 Zeichen Sekunde. E-Mails abfragen und Internet-Verkehr werden damit unmöglich.In vielen Fällen sind die Module entweder angelötet oder Hersteller (Fujitsu\, lenovo\, HP\, DELL) erlauben im BIOS/UEFI nur bestimmte Module. Im Zweifelsfall lässt sich ein Gerät also gar nicht umrüsten.\n \nAlternativen\n \nNotebooks mit UMTS-Modulen ersetzen (aus Sicherheitsüberlegungen außerdem erforderlich\, wenn noch Windows 7 betrieben wird) - oder ein modernes Smartphone besitzen\, das LTE- oder 5G- Funkstandards unterstützt. Über Bluetooth bzw. das USB-Ladekabel gekoppelt\, funktioniert das Smartphone dann als Internet-WLan-Router oder Modem.\n \nWas tun?\n \n\nSmartphones\, die älter als drei Jahre sind\, zügig erneuern\n \nNotebooks mit UMTS-Modul ersetzen (oder neues Smartphone anbinden für mobiles Internet)\n\n \nUnsere Kollegen (speziell: Patrick Jablonski) sind Ihnen gern bei der Suche nach neuen Notebooks behilflich - Wir empfehlen Ihnen Geräte der Thinkpad-Reihe von lenovo.\n \n (Beitrag: 1474\, erstellt am: 03.01.2021 19:28:04 von: Patrick Bärenfänger)
LOCATION:https://tech-nachrichten.de
CATEGORIES:Gelbe Kategorie
TRANSP:TRANSPARENT
X-MICROSOFT-CDO-BUSYSTATUS:FREE
SEQUENCE:0
CLASS:PUBLIC
PRIORITY:1
DTSTART:20260422T070000Z
DTEND:20260422T080000Z
BEGIN:VALARM
TRIGGER:-PT30M
ACTION:DISPLAY
DESCRIPTION:Reminder for Notebooks ohne LTE-Modul ab 01.07.2021 ohne Funktion
END:VALARM
END:VEVENT
END:VCALENDAR
