BEGIN:VCALENDAR
VERSION:2.0
METHOD:PUBLISH
PRODID:- Tech-Nachrichten //NONSGML Events //EN
CALSCALE:GREGORIAN
X-WR-CALNAME:ICAL-BLOG
BEGIN:VEVENT
UID:cae200c8-b646-4bf5-a7b9-3922e8b8a1fa
DTSTAMP:20260425T124621Z
CREATED:20260425T124621Z
SUMMARY:Notepad PlusPlus
DESCRIPTION:https://tech-nachrichten.de/notepad-plusplus/ - Artikel vom: Di.\, 9. April 2019\, 23:32:24 - n rnden beliebten Text-Editor gibt es nun ab Version 7.0 auch in 64-Bit. Damit fällt die Größenbeschränkung im RAM von 4 Gbyte weg. Wer jedoch mit NPP Plugins arbeitet\, sollte weiterhin die 32-Bit-Variante installieren.rnBeispiel-Plugins sind der integrierbare File-Explorer oder der Farbpicker für CSS und HTML-Dateien. Ich paketiere hier zunächst weiterhin die 32-Bit-Version. (Post ID:308)n
LOCATION:https://tech-nachrichten.de
CATEGORIES:Gelbe Kategorie
TRANSP:TRANSPARENT
X-MICROSOFT-CDO-BUSYSTATUS:FREE
SEQUENCE:0
CLASS:PUBLIC
PRIORITY:1
DTSTART:20260425T070000Z
DTEND:20260425T080000Z
BEGIN:VALARM
TRIGGER:-PT30M
ACTION:DISPLAY
DESCRIPTION:Reminder for Notepad PlusPlus
END:VALARM
END:VEVENT
END:VCALENDAR
