BEGIN:VCALENDAR
VERSION:2.0
METHOD:PUBLISH
PRODID:- Tech-Nachrichten //NONSGML Events //EN
CALSCALE:GREGORIAN
X-WR-CALNAME:ICAL-BLOG
BEGIN:VEVENT
UID:88954b8c-9f39-46a9-b952-4464d8ea2a68
DTSTAMP:20260421T230455Z
CREATED:20260421T230455Z
SUMMARY:Quizfrage 2675
DESCRIPTION:https://tech-nachrichten.de/question/quizfrage-2675/ - Artikel vom: Fr.\, 10. Oktober 2025\, 19:16:46 - Welches Land hat das Synchronschwimmen bei den Olympischen Sommerspielen mit fünf Goldmedaillen seit seiner Wiedereinführung in die Spiele im Jahr 2000 dominiert?
LOCATION:https://tech-nachrichten.de
CATEGORIES:Gelbe Kategorie
TRANSP:TRANSPARENT
X-MICROSOFT-CDO-BUSYSTATUS:FREE
SEQUENCE:0
CLASS:PUBLIC
PRIORITY:1
DTSTART:20260422T070000Z
DTEND:20260422T080000Z
BEGIN:VALARM
TRIGGER:-PT30M
ACTION:DISPLAY
DESCRIPTION:Reminder for Quizfrage 2675
END:VALARM
END:VEVENT
END:VCALENDAR
