BEGIN:VCALENDAR
VERSION:2.0
METHOD:PUBLISH
PRODID:- Tech-Nachrichten //NONSGML Events //EN
CALSCALE:GREGORIAN
X-WR-CALNAME:ICAL-BLOG
BEGIN:VEVENT
UID:0b15f5d1-1154-4158-a09b-9fe0f9e0e64b
DTSTAMP:20260425T122614Z
CREATED:20260425T122614Z
SUMMARY:Quizfrage 2701
DESCRIPTION:https://tech-nachrichten.de/question/quizfrage-2701/ - Artikel vom: Fr.\, 10. Oktober 2025\, 19:16:46 - Future Nostalgia mit der Single Dont Start Now ist das zweite Studioalbum von welcher englischen Sängerin?
LOCATION:https://tech-nachrichten.de
CATEGORIES:Gelbe Kategorie
TRANSP:TRANSPARENT
X-MICROSOFT-CDO-BUSYSTATUS:FREE
SEQUENCE:0
CLASS:PUBLIC
PRIORITY:1
DTSTART:20260426T070000Z
DTEND:20260426T080000Z
BEGIN:VALARM
TRIGGER:-PT30M
ACTION:DISPLAY
DESCRIPTION:Reminder for Quizfrage 2701
END:VALARM
END:VEVENT
END:VCALENDAR
