BEGIN:VCALENDAR
VERSION:2.0
METHOD:PUBLISH
PRODID:- Tech-Nachrichten //NONSGML Events //EN
CALSCALE:GREGORIAN
X-WR-CALNAME:ICAL-BLOG
BEGIN:VEVENT
UID:4ece467e-39b8-4817-a0e0-3f306a27c719
DTSTAMP:20260421T162232Z
CREATED:20260421T162232Z
SUMMARY:Quizfrage 2718
DESCRIPTION:https://tech-nachrichten.de/question/quizfrage-2718/ - Artikel vom: Fr.\, 10. Oktober 2025\, 19:16:46 - Nennen Sie den Bildhauer der 1950 die Family Group gründete und den ersten Großauftrag nach dem Zweiten Weltkrieg hatte?
LOCATION:https://tech-nachrichten.de
CATEGORIES:Gelbe Kategorie
TRANSP:TRANSPARENT
X-MICROSOFT-CDO-BUSYSTATUS:FREE
SEQUENCE:0
CLASS:PUBLIC
PRIORITY:1
DTSTART:20260422T070000Z
DTEND:20260422T080000Z
BEGIN:VALARM
TRIGGER:-PT30M
ACTION:DISPLAY
DESCRIPTION:Reminder for Quizfrage 2718
END:VALARM
END:VEVENT
END:VCALENDAR
