BEGIN:VCALENDAR
VERSION:2.0
METHOD:PUBLISH
PRODID:- Tech-Nachrichten //NONSGML Events //EN
CALSCALE:GREGORIAN
X-WR-CALNAME:ICAL-BLOG
BEGIN:VEVENT
UID:0f796a30-0998-4aa3-a2a6-415313d0a37f
DTSTAMP:20260421T163538Z
CREATED:20260421T163538Z
SUMMARY:Quizfrage 2817
DESCRIPTION:https://tech-nachrichten.de/question/quizfrage-2817/ - Artikel vom: Fr.\, 10. Oktober 2025\, 19:16:47 - Wie werden die Nachkommen einer Kreuzung aus Tigern und Löwen genannt?
LOCATION:https://tech-nachrichten.de
CATEGORIES:Gelbe Kategorie
TRANSP:TRANSPARENT
X-MICROSOFT-CDO-BUSYSTATUS:FREE
SEQUENCE:0
CLASS:PUBLIC
PRIORITY:1
DTSTART:20260422T070000Z
DTEND:20260422T080000Z
BEGIN:VALARM
TRIGGER:-PT30M
ACTION:DISPLAY
DESCRIPTION:Reminder for Quizfrage 2817
END:VALARM
END:VEVENT
END:VCALENDAR
