BEGIN:VCALENDAR
VERSION:2.0
METHOD:PUBLISH
PRODID:- Tech-Nachrichten //NONSGML Events //EN
CALSCALE:GREGORIAN
X-WR-CALNAME:ICAL-BLOG
BEGIN:VEVENT
UID:19154f8d-f497-4c3f-9752-049629dc40d1
DTSTAMP:20260421T213736Z
CREATED:20260421T213736Z
SUMMARY:Quizfrage 2951
DESCRIPTION:https://tech-nachrichten.de/question/quizfrage-2951/ - Artikel vom: Fr.\, 10. Oktober 2025\, 19:16:47 - Für welche Entdeckung ist Albert Einstein berühmt?
LOCATION:https://tech-nachrichten.de
CATEGORIES:Gelbe Kategorie
TRANSP:TRANSPARENT
X-MICROSOFT-CDO-BUSYSTATUS:FREE
SEQUENCE:0
CLASS:PUBLIC
PRIORITY:1
DTSTART:20260422T070000Z
DTEND:20260422T080000Z
BEGIN:VALARM
TRIGGER:-PT30M
ACTION:DISPLAY
DESCRIPTION:Reminder for Quizfrage 2951
END:VALARM
END:VEVENT
END:VCALENDAR
