BEGIN:VCALENDAR
VERSION:2.0
METHOD:PUBLISH
PRODID:- Tech-Nachrichten //NONSGML Events //EN
CALSCALE:GREGORIAN
X-WR-CALNAME:ICAL-BLOG
BEGIN:VEVENT
UID:09854220-a905-46fb-8035-64bfb86558b3
DTSTAMP:20260425T110815Z
CREATED:20260425T110815Z
SUMMARY:Quizfrage 3124
DESCRIPTION:https://tech-nachrichten.de/question/quizfrage-3124/ - Artikel vom: Fr.\, 10. Oktober 2025\, 19:16:49 - Wie heißt die Hauptstadt der Slowakei?
LOCATION:https://tech-nachrichten.de
CATEGORIES:Gelbe Kategorie
TRANSP:TRANSPARENT
X-MICROSOFT-CDO-BUSYSTATUS:FREE
SEQUENCE:0
CLASS:PUBLIC
PRIORITY:1
DTSTART:20260426T070000Z
DTEND:20260426T080000Z
BEGIN:VALARM
TRIGGER:-PT30M
ACTION:DISPLAY
DESCRIPTION:Reminder for Quizfrage 3124
END:VALARM
END:VEVENT
END:VCALENDAR
