BEGIN:VCALENDAR
VERSION:2.0
METHOD:PUBLISH
PRODID:- Tech-Nachrichten //NONSGML Events //EN
CALSCALE:GREGORIAN
X-WR-CALNAME:ICAL-BLOG
BEGIN:VEVENT
UID:8a569be8-371f-4457-bfac-19f38a7ee011
DTSTAMP:20260425T125049Z
CREATED:20260425T125049Z
SUMMARY:Quizfrage 3133
DESCRIPTION:https://tech-nachrichten.de/question/quizfrage-3133/ - Artikel vom: Fr.\, 10. Oktober 2025\, 19:16:49 - Was soll Cäsar gesagt haben als er den Rubikon überquerte?
LOCATION:https://tech-nachrichten.de
CATEGORIES:Gelbe Kategorie
TRANSP:TRANSPARENT
X-MICROSOFT-CDO-BUSYSTATUS:FREE
SEQUENCE:0
CLASS:PUBLIC
PRIORITY:1
DTSTART:20260425T070000Z
DTEND:20260425T080000Z
BEGIN:VALARM
TRIGGER:-PT30M
ACTION:DISPLAY
DESCRIPTION:Reminder for Quizfrage 3133
END:VALARM
END:VEVENT
END:VCALENDAR
