BEGIN:VCALENDAR
VERSION:2.0
METHOD:PUBLISH
PRODID:- Tech-Nachrichten //NONSGML Events //EN
CALSCALE:GREGORIAN
X-WR-CALNAME:ICAL-BLOG
BEGIN:VEVENT
UID:af066f7a-48f5-40db-a012-1f4d0e4d9436
DTSTAMP:20260425T124657Z
CREATED:20260425T124657Z
SUMMARY:Quizfrage 3144
DESCRIPTION:https://tech-nachrichten.de/question/quizfrage-3144/ - Artikel vom: Fr.\, 10. Oktober 2025\, 19:16:49 - Welche Stadt hat nach Berlin die meisten Einwohner in Deutschland?
LOCATION:https://tech-nachrichten.de
CATEGORIES:Gelbe Kategorie
TRANSP:TRANSPARENT
X-MICROSOFT-CDO-BUSYSTATUS:FREE
SEQUENCE:0
CLASS:PUBLIC
PRIORITY:1
DTSTART:20260426T070000Z
DTEND:20260426T080000Z
BEGIN:VALARM
TRIGGER:-PT30M
ACTION:DISPLAY
DESCRIPTION:Reminder for Quizfrage 3144
END:VALARM
END:VEVENT
END:VCALENDAR
