BEGIN:VCALENDAR
VERSION:2.0
METHOD:PUBLISH
PRODID:- Tech-Nachrichten //NONSGML Events //EN
CALSCALE:GREGORIAN
X-WR-CALNAME:ICAL-BLOG
BEGIN:VEVENT
UID:e8792492-5264-446a-9fc6-87fe583b6d5b
DTSTAMP:20260425T124943Z
CREATED:20260425T124943Z
SUMMARY:Quizfrage 3146
DESCRIPTION:https://tech-nachrichten.de/question/quizfrage-3146/ - Artikel vom: Fr.\, 10. Oktober 2025\, 19:16:49 - Wie tief ist der Marianengraben?
LOCATION:https://tech-nachrichten.de
CATEGORIES:Gelbe Kategorie
TRANSP:TRANSPARENT
X-MICROSOFT-CDO-BUSYSTATUS:FREE
SEQUENCE:0
CLASS:PUBLIC
PRIORITY:1
DTSTART:20260425T070000Z
DTEND:20260425T080000Z
BEGIN:VALARM
TRIGGER:-PT30M
ACTION:DISPLAY
DESCRIPTION:Reminder for Quizfrage 3146
END:VALARM
END:VEVENT
END:VCALENDAR
