BEGIN:VCALENDAR
VERSION:2.0
METHOD:PUBLISH
PRODID:- Tech-Nachrichten //NONSGML Events //EN
CALSCALE:GREGORIAN
X-WR-CALNAME:ICAL-BLOG
BEGIN:VEVENT
UID:6665c8bb-7f5b-45d1-ab39-5e504829bc72
DTSTAMP:20260425T104125Z
CREATED:20260425T104125Z
SUMMARY:Quizfrage 3204
DESCRIPTION:https://tech-nachrichten.de/question/quizfrage-3204/ - Artikel vom: Fr.\, 10. Oktober 2025\, 19:16:49 - Liedtext: Up at the club with my homies trying to get a little VI
LOCATION:https://tech-nachrichten.de
CATEGORIES:Gelbe Kategorie
TRANSP:TRANSPARENT
X-MICROSOFT-CDO-BUSYSTATUS:FREE
SEQUENCE:0
CLASS:PUBLIC
PRIORITY:1
DTSTART:20260425T070000Z
DTEND:20260425T080000Z
BEGIN:VALARM
TRIGGER:-PT30M
ACTION:DISPLAY
DESCRIPTION:Reminder for Quizfrage 3204
END:VALARM
END:VEVENT
END:VCALENDAR
