BEGIN:VCALENDAR
VERSION:2.0
METHOD:PUBLISH
PRODID:- Tech-Nachrichten //NONSGML Events //EN
CALSCALE:GREGORIAN
X-WR-CALNAME:ICAL-BLOG
BEGIN:VEVENT
UID:2412ddb7-57c1-4010-9076-f25da92d7216
DTSTAMP:20260425T121727Z
CREATED:20260425T121727Z
SUMMARY:Quizfrage 3350
DESCRIPTION:https://tech-nachrichten.de/question/quizfrage-3350/ - Artikel vom: Fr.\, 10. Oktober 2025\, 19:16:50 - Welches der unten genannten Lebensmittel enthält am meisten Eisen?
LOCATION:https://tech-nachrichten.de
CATEGORIES:Gelbe Kategorie
TRANSP:TRANSPARENT
X-MICROSOFT-CDO-BUSYSTATUS:FREE
SEQUENCE:0
CLASS:PUBLIC
PRIORITY:1
DTSTART:20260422T070000Z
DTEND:20260422T080000Z
BEGIN:VALARM
TRIGGER:-PT30M
ACTION:DISPLAY
DESCRIPTION:Reminder for Quizfrage 3350
END:VALARM
END:VEVENT
END:VCALENDAR
