BEGIN:VCALENDAR
VERSION:2.0
METHOD:PUBLISH
PRODID:- Tech-Nachrichten //NONSGML Events //EN
CALSCALE:GREGORIAN
X-WR-CALNAME:ICAL-BLOG
BEGIN:VEVENT
UID:1b033884-eca3-48bf-bad7-0900ac4ca774
DTSTAMP:20260425T122635Z
CREATED:20260425T122635Z
SUMMARY:Quizfrage 3375
DESCRIPTION:https://tech-nachrichten.de/question/quizfrage-3375/ - Artikel vom: Fr.\, 10. Oktober 2025\, 19:16:51 - Am 26. April 1986 kam es im Atomkraftwerk von Tschernobyl zum bisher schwersten Unfall in der Geschichte der Kernenergie. Wie groß ist in etwa die Sperrzone?
LOCATION:https://tech-nachrichten.de
CATEGORIES:Gelbe Kategorie
TRANSP:TRANSPARENT
X-MICROSOFT-CDO-BUSYSTATUS:FREE
SEQUENCE:0
CLASS:PUBLIC
PRIORITY:1
DTSTART:20260425T070000Z
DTEND:20260425T080000Z
BEGIN:VALARM
TRIGGER:-PT30M
ACTION:DISPLAY
DESCRIPTION:Reminder for Quizfrage 3375
END:VALARM
END:VEVENT
END:VCALENDAR
