BEGIN:VCALENDAR
VERSION:2.0
METHOD:PUBLISH
PRODID:- Tech-Nachrichten //NONSGML Events //EN
CALSCALE:GREGORIAN
X-WR-CALNAME:ICAL-BLOG
BEGIN:VEVENT
UID:9d9987f8-60dd-4a7f-ae30-ce7053747e7c
DTSTAMP:20260421T213731Z
CREATED:20260421T213731Z
SUMMARY:Quizfrage 3450
DESCRIPTION:https://tech-nachrichten.de/question/quizfrage-3450/ - Artikel vom: Fr.\, 10. Oktober 2025\, 19:16:51 - Welcher Hase legt Eier?
LOCATION:https://tech-nachrichten.de
CATEGORIES:Gelbe Kategorie
TRANSP:TRANSPARENT
X-MICROSOFT-CDO-BUSYSTATUS:FREE
SEQUENCE:0
CLASS:PUBLIC
PRIORITY:1
DTSTART:20260422T070000Z
DTEND:20260422T080000Z
BEGIN:VALARM
TRIGGER:-PT30M
ACTION:DISPLAY
DESCRIPTION:Reminder for Quizfrage 3450
END:VALARM
END:VEVENT
END:VCALENDAR
