BEGIN:VCALENDAR
VERSION:2.0
METHOD:PUBLISH
PRODID:- Tech-Nachrichten //NONSGML Events //EN
CALSCALE:GREGORIAN
X-WR-CALNAME:ICAL-BLOG
BEGIN:VEVENT
UID:873c5e73-576f-4edf-9632-5310b335b646
DTSTAMP:20260425T104159Z
CREATED:20260425T104159Z
SUMMARY:Quizfrage 3585
DESCRIPTION:https://tech-nachrichten.de/question/quizfrage-3585/ - Artikel vom: Fr.\, 10. Oktober 2025\, 19:16:51 - Welches Land produziert den meisten Kaffee der Welt?
LOCATION:https://tech-nachrichten.de
CATEGORIES:Gelbe Kategorie
TRANSP:TRANSPARENT
X-MICROSOFT-CDO-BUSYSTATUS:FREE
SEQUENCE:0
CLASS:PUBLIC
PRIORITY:1
DTSTART:20260425T070000Z
DTEND:20260425T080000Z
BEGIN:VALARM
TRIGGER:-PT30M
ACTION:DISPLAY
DESCRIPTION:Reminder for Quizfrage 3585
END:VALARM
END:VEVENT
END:VCALENDAR
