BEGIN:VCALENDAR
VERSION:2.0
METHOD:PUBLISH
PRODID:- Tech-Nachrichten //NONSGML Events //EN
CALSCALE:GREGORIAN
X-WR-CALNAME:ICAL-BLOG
BEGIN:VEVENT
UID:01f5395d-a801-4a14-aa78-585d9f4ba89f
DTSTAMP:20260425T125004Z
CREATED:20260425T125004Z
SUMMARY:Quizfrage 3619
DESCRIPTION:https://tech-nachrichten.de/question/quizfrage-3619/ - Artikel vom: Fr.\, 10. Oktober 2025\, 19:16:51 - Wer hat in der Bibel allein ein Viertel der Weltbevölkerung getötet?
LOCATION:https://tech-nachrichten.de
CATEGORIES:Gelbe Kategorie
TRANSP:TRANSPARENT
X-MICROSOFT-CDO-BUSYSTATUS:FREE
SEQUENCE:0
CLASS:PUBLIC
PRIORITY:1
DTSTART:20260425T070000Z
DTEND:20260425T080000Z
BEGIN:VALARM
TRIGGER:-PT30M
ACTION:DISPLAY
DESCRIPTION:Reminder for Quizfrage 3619
END:VALARM
END:VEVENT
END:VCALENDAR
