BEGIN:VCALENDAR
VERSION:2.0
METHOD:PUBLISH
PRODID:- Tech-Nachrichten //NONSGML Events //EN
CALSCALE:GREGORIAN
X-WR-CALNAME:ICAL-BLOG
BEGIN:VEVENT
UID:cb5ccf5e-1e06-412b-8f39-61e0a9af63d2
DTSTAMP:20260425T114603Z
CREATED:20260425T114603Z
SUMMARY:Quizfrage 3647
DESCRIPTION:https://tech-nachrichten.de/question/quizfrage-3647/ - Artikel vom: Fr.\, 10. Oktober 2025\, 19:16:52 - In welchem 1976er Thriller sagt Robert De Niro Du redest mit mir?
LOCATION:https://tech-nachrichten.de
CATEGORIES:Gelbe Kategorie
TRANSP:TRANSPARENT
X-MICROSOFT-CDO-BUSYSTATUS:FREE
SEQUENCE:0
CLASS:PUBLIC
PRIORITY:1
DTSTART:20260426T070000Z
DTEND:20260426T080000Z
BEGIN:VALARM
TRIGGER:-PT30M
ACTION:DISPLAY
DESCRIPTION:Reminder for Quizfrage 3647
END:VALARM
END:VEVENT
END:VCALENDAR
