BEGIN:VCALENDAR
VERSION:2.0
METHOD:PUBLISH
PRODID:- Tech-Nachrichten //NONSGML Events //EN
CALSCALE:GREGORIAN
X-WR-CALNAME:ICAL-BLOG
BEGIN:VEVENT
UID:b5368eb3-7948-4687-9f0e-3723dbff909f
DTSTAMP:20260425T122629Z
CREATED:20260425T122629Z
SUMMARY:Quizfrage 3679
DESCRIPTION:https://tech-nachrichten.de/question/quizfrage-3679/ - Artikel vom: Fr.\, 10. Oktober 2025\, 19:16:52 - Drei Frösche fressen drei Fliegen in drei Minuten. In wie viel Minuten fressen 100 Frösche 100 Fliegen?
LOCATION:https://tech-nachrichten.de
CATEGORIES:Gelbe Kategorie
TRANSP:TRANSPARENT
X-MICROSOFT-CDO-BUSYSTATUS:FREE
SEQUENCE:0
CLASS:PUBLIC
PRIORITY:1
DTSTART:20260425T070000Z
DTEND:20260425T080000Z
BEGIN:VALARM
TRIGGER:-PT30M
ACTION:DISPLAY
DESCRIPTION:Reminder for Quizfrage 3679
END:VALARM
END:VEVENT
END:VCALENDAR
