BEGIN:VCALENDAR
VERSION:2.0
METHOD:PUBLISH
PRODID:- Tech-Nachrichten //NONSGML Events //EN
CALSCALE:GREGORIAN
X-WR-CALNAME:ICAL-BLOG
BEGIN:VEVENT
UID:ca837167-796e-46c4-8d8b-f53348253bb3
DTSTAMP:20260425T114536Z
CREATED:20260425T114536Z
SUMMARY:Quizfrage 3702
DESCRIPTION:https://tech-nachrichten.de/question/quizfrage-3702/ - Artikel vom: Fr.\, 10. Oktober 2025\, 19:16:52 - Ein Mann ist halbnackt und schwitzt inmitten von Menschen trotzdem hat er Handschuhe an. Warum?
LOCATION:https://tech-nachrichten.de
CATEGORIES:Gelbe Kategorie
TRANSP:TRANSPARENT
X-MICROSOFT-CDO-BUSYSTATUS:FREE
SEQUENCE:0
CLASS:PUBLIC
PRIORITY:1
DTSTART:20260426T070000Z
DTEND:20260426T080000Z
BEGIN:VALARM
TRIGGER:-PT30M
ACTION:DISPLAY
DESCRIPTION:Reminder for Quizfrage 3702
END:VALARM
END:VEVENT
END:VCALENDAR
