BEGIN:VCALENDAR
VERSION:2.0
METHOD:PUBLISH
PRODID:- Tech-Nachrichten //NONSGML Events //EN
CALSCALE:GREGORIAN
X-WR-CALNAME:ICAL-BLOG
BEGIN:VEVENT
UID:fe40f1eb-c5b9-4ba2-93d8-8efa95dda085
DTSTAMP:20260425T033825Z
CREATED:20260425T033825Z
SUMMARY:Quizfrage 4097
DESCRIPTION:https://tech-nachrichten.de/question/quizfrage-4097/ - Artikel vom: Fr.\, 10. Oktober 2025\, 19:16:55 - Wie heißt die Hauptstadt von: Schweiz?
LOCATION:https://tech-nachrichten.de
CATEGORIES:Gelbe Kategorie
TRANSP:TRANSPARENT
X-MICROSOFT-CDO-BUSYSTATUS:FREE
SEQUENCE:0
CLASS:PUBLIC
PRIORITY:1
DTSTART:20260425T070000Z
DTEND:20260425T080000Z
BEGIN:VALARM
TRIGGER:-PT30M
ACTION:DISPLAY
DESCRIPTION:Reminder for Quizfrage 4097
END:VALARM
END:VEVENT
END:VCALENDAR
