BEGIN:VCALENDAR
VERSION:2.0
METHOD:PUBLISH
PRODID:- Tech-Nachrichten //NONSGML Events //EN
CALSCALE:GREGORIAN
X-WR-CALNAME:ICAL-BLOG
BEGIN:VEVENT
UID:5ef04fe9-dceb-4272-af42-1663b2e4c90d
DTSTAMP:20260425T110049Z
CREATED:20260425T110049Z
SUMMARY:Quizfrage 4098
DESCRIPTION:https://tech-nachrichten.de/question/quizfrage-4098/ - Artikel vom: Fr.\, 10. Oktober 2025\, 19:16:55 - Wie heißt die Hauptstadt von: Senegal?
LOCATION:https://tech-nachrichten.de
CATEGORIES:Gelbe Kategorie
TRANSP:TRANSPARENT
X-MICROSOFT-CDO-BUSYSTATUS:FREE
SEQUENCE:0
CLASS:PUBLIC
PRIORITY:1
DTSTART:20260425T070000Z
DTEND:20260425T080000Z
BEGIN:VALARM
TRIGGER:-PT30M
ACTION:DISPLAY
DESCRIPTION:Reminder for Quizfrage 4098
END:VALARM
END:VEVENT
END:VCALENDAR
