BEGIN:VCALENDAR
VERSION:2.0
METHOD:PUBLISH
PRODID:- Tech-Nachrichten //NONSGML Events //EN
CALSCALE:GREGORIAN
X-WR-CALNAME:ICAL-BLOG
BEGIN:VEVENT
UID:ebdd7a00-a3b6-496d-bbe4-0bd1ba817f41
DTSTAMP:20260425T115652Z
CREATED:20260425T115652Z
SUMMARY:Quizfrage 4098
DESCRIPTION:https://tech-nachrichten.de/question/quizfrage-4098/ - Artikel vom: Fr.\, 10. Oktober 2025\, 19:16:55 - Wie heißt die Hauptstadt von: Senegal?
LOCATION:https://tech-nachrichten.de
CATEGORIES:Gelbe Kategorie
TRANSP:TRANSPARENT
X-MICROSOFT-CDO-BUSYSTATUS:FREE
SEQUENCE:0
CLASS:PUBLIC
PRIORITY:1
DTSTART:20260426T070000Z
DTEND:20260426T080000Z
BEGIN:VALARM
TRIGGER:-PT30M
ACTION:DISPLAY
DESCRIPTION:Reminder for Quizfrage 4098
END:VALARM
END:VEVENT
END:VCALENDAR
