BEGIN:VCALENDAR
VERSION:2.0
METHOD:PUBLISH
PRODID:- Tech-Nachrichten //NONSGML Events //EN
CALSCALE:GREGORIAN
X-WR-CALNAME:ICAL-BLOG
BEGIN:VEVENT
UID:3d68fd1c-a095-4a23-8c1a-37f39e37e95d
DTSTAMP:20260425T122604Z
CREATED:20260425T122604Z
SUMMARY:Quizfrage 4112
DESCRIPTION:https://tech-nachrichten.de/question/quizfrage-4112/ - Artikel vom: Fr.\, 10. Oktober 2025\, 19:16:55 - Wie heißt die Hauptstadt von: Suriname?
LOCATION:https://tech-nachrichten.de
CATEGORIES:Gelbe Kategorie
TRANSP:TRANSPARENT
X-MICROSOFT-CDO-BUSYSTATUS:FREE
SEQUENCE:0
CLASS:PUBLIC
PRIORITY:1
DTSTART:20260425T070000Z
DTEND:20260425T080000Z
BEGIN:VALARM
TRIGGER:-PT30M
ACTION:DISPLAY
DESCRIPTION:Reminder for Quizfrage 4112
END:VALARM
END:VEVENT
END:VCALENDAR
