BEGIN:VCALENDAR
VERSION:2.0
METHOD:PUBLISH
PRODID:- Tech-Nachrichten //NONSGML Events //EN
CALSCALE:GREGORIAN
X-WR-CALNAME:ICAL-BLOG
BEGIN:VEVENT
UID:f374024a-cf3e-4927-99f8-c3eee59fc6af
DTSTAMP:20260425T033724Z
CREATED:20260425T033724Z
SUMMARY:Quizfrage 4113
DESCRIPTION:https://tech-nachrichten.de/question/quizfrage-4113/ - Artikel vom: Fr.\, 10. Oktober 2025\, 19:16:55 - Wie heißt die Hauptstadt von: Syrien?
LOCATION:https://tech-nachrichten.de
CATEGORIES:Gelbe Kategorie
TRANSP:TRANSPARENT
X-MICROSOFT-CDO-BUSYSTATUS:FREE
SEQUENCE:0
CLASS:PUBLIC
PRIORITY:1
DTSTART:20260425T070000Z
DTEND:20260425T080000Z
BEGIN:VALARM
TRIGGER:-PT30M
ACTION:DISPLAY
DESCRIPTION:Reminder for Quizfrage 4113
END:VALARM
END:VEVENT
END:VCALENDAR
