BEGIN:VCALENDAR
VERSION:2.0
METHOD:PUBLISH
PRODID:- Tech-Nachrichten //NONSGML Events //EN
CALSCALE:GREGORIAN
X-WR-CALNAME:ICAL-BLOG
BEGIN:VEVENT
UID:aac10600-13d0-4c4b-8a67-fef55de800cd
DTSTAMP:20260425T122722Z
CREATED:20260425T122722Z
SUMMARY:Quizfrage 4156
DESCRIPTION:https://tech-nachrichten.de/question/quizfrage-4156/ - Artikel vom: Fr.\, 10. Oktober 2025\, 19:16:56 - Wie heißt die Währung in Angola?
LOCATION:https://tech-nachrichten.de
CATEGORIES:Gelbe Kategorie
TRANSP:TRANSPARENT
X-MICROSOFT-CDO-BUSYSTATUS:FREE
SEQUENCE:0
CLASS:PUBLIC
PRIORITY:1
DTSTART:20260425T070000Z
DTEND:20260425T080000Z
BEGIN:VALARM
TRIGGER:-PT30M
ACTION:DISPLAY
DESCRIPTION:Reminder for Quizfrage 4156
END:VALARM
END:VEVENT
END:VCALENDAR
