BEGIN:VCALENDAR
VERSION:2.0
METHOD:PUBLISH
PRODID:- Tech-Nachrichten //NONSGML Events //EN
CALSCALE:GREGORIAN
X-WR-CALNAME:ICAL-BLOG
BEGIN:VEVENT
UID:e72955d1-6286-477f-ab65-5208ff3fdec2
DTSTAMP:20260425T122554Z
CREATED:20260425T122554Z
SUMMARY:Quizfrage 4175
DESCRIPTION:https://tech-nachrichten.de/question/quizfrage-4175/ - Artikel vom: Fr.\, 10. Oktober 2025\, 19:16:56 - Wie heißt die Währung in Bhutan?
LOCATION:https://tech-nachrichten.de
CATEGORIES:Gelbe Kategorie
TRANSP:TRANSPARENT
X-MICROSOFT-CDO-BUSYSTATUS:FREE
SEQUENCE:0
CLASS:PUBLIC
PRIORITY:1
DTSTART:20260425T070000Z
DTEND:20260425T080000Z
BEGIN:VALARM
TRIGGER:-PT30M
ACTION:DISPLAY
DESCRIPTION:Reminder for Quizfrage 4175
END:VALARM
END:VEVENT
END:VCALENDAR
