BEGIN:VCALENDAR
VERSION:2.0
METHOD:PUBLISH
PRODID:- Tech-Nachrichten //NONSGML Events //EN
CALSCALE:GREGORIAN
X-WR-CALNAME:ICAL-BLOG
BEGIN:VEVENT
UID:afd4c222-6990-436a-b4b2-1ab7f97f7f09
DTSTAMP:20260425T121122Z
CREATED:20260425T121122Z
SUMMARY:Quizfrage 4437
DESCRIPTION:https://tech-nachrichten.de/question/quizfrage-4437/ - Artikel vom: Fr.\, 10. Oktober 2025\, 19:16:58 - Wie lautet das Flughafenkürzel von: Rijeka / Kroatien
LOCATION:https://tech-nachrichten.de
CATEGORIES:Gelbe Kategorie
TRANSP:TRANSPARENT
X-MICROSOFT-CDO-BUSYSTATUS:FREE
SEQUENCE:0
CLASS:PUBLIC
PRIORITY:1
DTSTART:20260422T070000Z
DTEND:20260422T080000Z
BEGIN:VALARM
TRIGGER:-PT30M
ACTION:DISPLAY
DESCRIPTION:Reminder for Quizfrage 4437
END:VALARM
END:VEVENT
END:VCALENDAR
