BEGIN:VCALENDAR
VERSION:2.0
METHOD:PUBLISH
PRODID:- Tech-Nachrichten //NONSGML Events //EN
CALSCALE:GREGORIAN
X-WR-CALNAME:ICAL-BLOG
BEGIN:VEVENT
UID:b1ef6cd1-195e-40d4-a969-b09a8f4ade80
DTSTAMP:20260425T125039Z
CREATED:20260425T125039Z
SUMMARY:Quizfrage 4631
DESCRIPTION:https://tech-nachrichten.de/question/quizfrage-4631/ - Artikel vom: Fr.\, 10. Oktober 2025\, 19:16:59 - Wie heißt KYGO mit bürgerlichem Namen?
LOCATION:https://tech-nachrichten.de
CATEGORIES:Gelbe Kategorie
TRANSP:TRANSPARENT
X-MICROSOFT-CDO-BUSYSTATUS:FREE
SEQUENCE:0
CLASS:PUBLIC
PRIORITY:1
DTSTART:20260425T070000Z
DTEND:20260425T080000Z
BEGIN:VALARM
TRIGGER:-PT30M
ACTION:DISPLAY
DESCRIPTION:Reminder for Quizfrage 4631
END:VALARM
END:VEVENT
END:VCALENDAR
