BEGIN:VCALENDAR
VERSION:2.0
METHOD:PUBLISH
PRODID:- Tech-Nachrichten //NONSGML Events //EN
CALSCALE:GREGORIAN
X-WR-CALNAME:ICAL-BLOG
BEGIN:VEVENT
UID:2e5ebd8e-0e83-4b2f-a5b2-6d7b84140715
DTSTAMP:20260425T120917Z
CREATED:20260425T120917Z
SUMMARY:Quizfrage 4640
DESCRIPTION:https://tech-nachrichten.de/question/quizfrage-4640/ - Artikel vom: Fr.\, 10. Oktober 2025\, 19:16:59 - KI-erstelltes Bild: Welcher Film wird gesucht?
LOCATION:https://tech-nachrichten.de
CATEGORIES:Gelbe Kategorie
TRANSP:TRANSPARENT
X-MICROSOFT-CDO-BUSYSTATUS:FREE
SEQUENCE:0
CLASS:PUBLIC
PRIORITY:1
DTSTART:20260422T070000Z
DTEND:20260422T080000Z
BEGIN:VALARM
TRIGGER:-PT30M
ACTION:DISPLAY
DESCRIPTION:Reminder for Quizfrage 4640
END:VALARM
END:VEVENT
END:VCALENDAR
