BEGIN:VCALENDAR
VERSION:2.0
METHOD:PUBLISH
PRODID:- Tech-Nachrichten //NONSGML Events //EN
CALSCALE:GREGORIAN
X-WR-CALNAME:ICAL-BLOG
BEGIN:VEVENT
UID:07e8c109-d0b4-44d5-a9dd-7cfa6f5d655f
DTSTAMP:20260425T121325Z
CREATED:20260425T121325Z
SUMMARY:Quizfrage 4646
DESCRIPTION:https://tech-nachrichten.de/question/quizfrage-4646/ - Artikel vom: Fr.\, 10. Oktober 2025\, 19:16:59 - KI-erstelltes Bild: Welcher Film wird gesucht?
LOCATION:https://tech-nachrichten.de
CATEGORIES:Gelbe Kategorie
TRANSP:TRANSPARENT
X-MICROSOFT-CDO-BUSYSTATUS:FREE
SEQUENCE:0
CLASS:PUBLIC
PRIORITY:1
DTSTART:20260422T070000Z
DTEND:20260422T080000Z
BEGIN:VALARM
TRIGGER:-PT30M
ACTION:DISPLAY
DESCRIPTION:Reminder for Quizfrage 4646
END:VALARM
END:VEVENT
END:VCALENDAR
