BEGIN:VCALENDAR
VERSION:2.0
METHOD:PUBLISH
PRODID:- Tech-Nachrichten //NONSGML Events //EN
CALSCALE:GREGORIAN
X-WR-CALNAME:ICAL-BLOG
BEGIN:VEVENT
UID:3d8c4f8d-7f9d-4eb0-914d-db6ae7157dd5
DTSTAMP:20260425T110054Z
CREATED:20260425T110054Z
SUMMARY:Quizfrage 4689
DESCRIPTION:https://tech-nachrichten.de/question/quizfrage-4689/ - Artikel vom: Fr.\, 10. Oktober 2025\, 19:17:00 - KI-erstelltes Bild: Die Zombies wurden durch Bären ersetzt - in welchem Film?
LOCATION:https://tech-nachrichten.de
CATEGORIES:Gelbe Kategorie
TRANSP:TRANSPARENT
X-MICROSOFT-CDO-BUSYSTATUS:FREE
SEQUENCE:0
CLASS:PUBLIC
PRIORITY:1
DTSTART:20260425T070000Z
DTEND:20260425T080000Z
BEGIN:VALARM
TRIGGER:-PT30M
ACTION:DISPLAY
DESCRIPTION:Reminder for Quizfrage 4689
END:VALARM
END:VEVENT
END:VCALENDAR
