BEGIN:VCALENDAR
VERSION:2.0
METHOD:PUBLISH
PRODID:- Tech-Nachrichten //NONSGML Events //EN
CALSCALE:GREGORIAN
X-WR-CALNAME:ICAL-BLOG
BEGIN:VEVENT
UID:da9ce936-58f8-4385-a7ce-65ac3cb53b7e
DTSTAMP:20260425T124439Z
CREATED:20260425T124439Z
SUMMARY:Quizfrage 4765
DESCRIPTION:https://tech-nachrichten.de/question/quizfrage-4765/ - Artikel vom: Fr.\, 10. Oktober 2025\, 19:17:01 - Was ist die größte Stadt der Welt in Bezug auf die Bevölkerungsdichte?
LOCATION:https://tech-nachrichten.de
CATEGORIES:Gelbe Kategorie
TRANSP:TRANSPARENT
X-MICROSOFT-CDO-BUSYSTATUS:FREE
SEQUENCE:0
CLASS:PUBLIC
PRIORITY:1
DTSTART:20260425T070000Z
DTEND:20260425T080000Z
BEGIN:VALARM
TRIGGER:-PT30M
ACTION:DISPLAY
DESCRIPTION:Reminder for Quizfrage 4765
END:VALARM
END:VEVENT
END:VCALENDAR
