BEGIN:VCALENDAR
VERSION:2.0
METHOD:PUBLISH
PRODID:- Tech-Nachrichten //NONSGML Events //EN
CALSCALE:GREGORIAN
X-WR-CALNAME:ICAL-BLOG
BEGIN:VEVENT
UID:99610c18-7ab3-48e2-93f8-c368b5ef9985
DTSTAMP:20260421T175558Z
CREATED:20260421T175558Z
SUMMARY:Quizfrage 4812
DESCRIPTION:https://tech-nachrichten.de/question/quizfrage-4812/ - Artikel vom: Fr.\, 10. Oktober 2025\, 19:17:01 - Welches berühmte Ballett enthält die Figuren Prinz Siegfried Odette und Odile?
LOCATION:https://tech-nachrichten.de
CATEGORIES:Gelbe Kategorie
TRANSP:TRANSPARENT
X-MICROSOFT-CDO-BUSYSTATUS:FREE
SEQUENCE:0
CLASS:PUBLIC
PRIORITY:1
DTSTART:20260422T070000Z
DTEND:20260422T080000Z
BEGIN:VALARM
TRIGGER:-PT30M
ACTION:DISPLAY
DESCRIPTION:Reminder for Quizfrage 4812
END:VALARM
END:VEVENT
END:VCALENDAR
