BEGIN:VCALENDAR
VERSION:2.0
METHOD:PUBLISH
PRODID:- Tech-Nachrichten //NONSGML Events //EN
CALSCALE:GREGORIAN
X-WR-CALNAME:ICAL-BLOG
BEGIN:VEVENT
UID:c33df6a2-3963-4250-9504-7b491217f8bc
DTSTAMP:20260421T141749Z
CREATED:20260421T141749Z
SUMMARY:Quizfrage 4876
DESCRIPTION:https://tech-nachrichten.de/question/quizfrage-4876/ - Artikel vom: Fr.\, 10. Oktober 2025\, 19:17:02 - Was bedeuten die drei Blätter im Adidas-Logo?
LOCATION:https://tech-nachrichten.de
CATEGORIES:Gelbe Kategorie
TRANSP:TRANSPARENT
X-MICROSOFT-CDO-BUSYSTATUS:FREE
SEQUENCE:0
CLASS:PUBLIC
PRIORITY:1
DTSTART:20260422T070000Z
DTEND:20260422T080000Z
BEGIN:VALARM
TRIGGER:-PT30M
ACTION:DISPLAY
DESCRIPTION:Reminder for Quizfrage 4876
END:VALARM
END:VEVENT
END:VCALENDAR
